BEGIN:VCALENDAR
VERSION:2.0
PRODID:-//Aden Country Park - ECPv6.15.20//NONSGML v1.0//EN
CALSCALE:GREGORIAN
METHOD:PUBLISH
X-WR-CALNAME:Aden Country Park
X-ORIGINAL-URL:https://adencountrypark.org.uk
X-WR-CALDESC:Events for Aden Country Park
REFRESH-INTERVAL;VALUE=DURATION:PT1H
X-Robots-Tag:noindex
X-PUBLISHED-TTL:PT1H
BEGIN:VTIMEZONE
TZID:Europe/London
BEGIN:DAYLIGHT
TZOFFSETFROM:+0000
TZOFFSETTO:+0100
TZNAME:BST
DTSTART:20240331T010000
END:DAYLIGHT
BEGIN:STANDARD
TZOFFSETFROM:+0100
TZOFFSETTO:+0000
TZNAME:GMT
DTSTART:20241027T010000
END:STANDARD
BEGIN:DAYLIGHT
TZOFFSETFROM:+0000
TZOFFSETTO:+0100
TZNAME:BST
DTSTART:20250330T010000
END:DAYLIGHT
BEGIN:STANDARD
TZOFFSETFROM:+0100
TZOFFSETTO:+0000
TZNAME:GMT
DTSTART:20251026T010000
END:STANDARD
BEGIN:DAYLIGHT
TZOFFSETFROM:+0000
TZOFFSETTO:+0100
TZNAME:BST
DTSTART:20260329T010000
END:DAYLIGHT
BEGIN:STANDARD
TZOFFSETFROM:+0100
TZOFFSETTO:+0000
TZNAME:GMT
DTSTART:20261025T010000
END:STANDARD
END:VTIMEZONE
BEGIN:VEVENT
DTSTART;TZID=Europe/London:20250920T100000
DTEND;TZID=Europe/London:20250920T160000
DTSTAMP:20260420T122326
CREATED:20250616T155651Z
LAST-MODIFIED:20250904T112248Z
UID:7616-1758362400-1758384000@adencountrypark.org.uk
SUMMARY:Cultural Connections
DESCRIPTION:Cultural Connections: Archaeology of Aberdeenshire / Doors Open 2025 \nJoin Aberdeenshire Museums Service as we celebrate Scottish Archaeology Month at the Aberdeenshire Farming Museum\, Aden Country Park\, Mintlaw\, AB42 5FQ. Learn about the fascinating archaeology collections in the care of Aberdeenshire Museums Service. Come along and enjoy short talks introducing recent archaeological discoveries and research from around Aberdeenshire. Family friendly activities will be on offer\, including children’s trails\, demonstrations and guided walks. All activities are free to drop in. For further information please contact Aberdeenshire Museums Service. Full list of talks and stalls will be announced on our Facebook page nearer the time.\nContact E: museums@aberdeenshire.gov.uk\, or T: 01467 536544
URL:https://adencountrypark.org.uk/event/cultural-connections/
LOCATION:Aberdeenshire Farming Museum\, Station Rd\, Mintlaw\, Old Deer\, Peterhead\,\, United Kingdom
CATEGORIES:All
ATTACH;FMTTYPE=image/jpeg:https://adencountrypark.org.uk/wp-content/uploads/2022/12/Aden-Country-Park-webiste-2022.jpg
ORGANIZER;CN="Aberdeenshire Farming Museum":MAILTO:nicola.baird2@aberdeenshire.gov.uk
END:VEVENT
END:VCALENDAR